Workbook

Sheet PROYECTO
A1: PROYECTO PRESUPUESTO 2021 INSTITUCIÓN FERIAL DE ALBACETE (IFAB)
A2: GASTOS | F2: INGRESOS
C3: CRÉDITOS INICIALES | D3: % S/ TOTAL PTO. | H3: PREVISIONES INICIALES | I3: % S/ TOTAL PTO.
A4: CAPÍTULO 1 "GASTOS DE PERSONAL" | F4: CAPÍTULO 3 "TASAS Y OTROS INGRESOS"
A5: 4311.1300000 | B5: Personal laboral fijo | C5: ='RELACIONES DE PERSONAL'!E9 -> 170993.39 | D5: =C5/C$68*100 -> 30.393422 | F5: 34900 | G5: Derechos asistencia expositores | H5: ='INGRESOS DE FERIAS'!B13 -> 150000 | I5: =H5/H$19*100 -> 26.661927
A6: 4311.1600000 | B6: Seguridad social | C6: ='RELACIONES DE PERSONAL'!H9+1851.56+80.74 -> 56362.482 | D6: =C6/C$68*100 -> 10.018216 | F6: 34901 | G6: Derechos asistencia visitantes | H6: ='INGRESOS DE FERIAS'!C13 -> 10000 | I6: =H6/H$19*100 -> 1.7774618
B7: TOTAL CAPITULO 1 | C7: =SUM(C5:C6)-0.01 -> 227355.87 | D7: =C7/C$68*100 -> 40.411637 | F7: 39900 | G7: Otros ingresos diversos | H7: 2500 | I7: =H7/H$19*100 -> 0.44436545
G8: TOTAL CAPITULO 3 | H8: =SUM(H5:H7) -> 162500 | I8: =SUM(I5:I7) -> 28.883754
A9: CAPÍTULO 2 "GTOS. CTES. EN BIENES Y SERVICIOS"
A10: 4311,2030000 | B10: Arrendamientos maquinaria y utillaje | C10: 100 | D10: =C10/C$68*100 -> 0.017774618 | F10: CAPÍTULO 4 "TRANSFERENCIAS CORRIENTES"
A11: 4311.2050000 | B11: Arrendamiento de mobiliario y enseres | C11: 500 | D11: =C11/C$68*100 -> 0.08887309 | F11: 46100 | G11: Aportación Diputación | H11: 175000 | I11: =H11/H$19*100 -> 31.105581
A12: 4311.2090000 | B12: Cánones | C12: 6000 | D12: =C12/C$68*100 -> 1.0664771 | F12: 46200 | G12: Aportación Ayuntamiento | H12: 225000 | I12: =H12/H$19*100 -> 39.99289
A13: 4311.2120000 | B13: Conservación edificios | C13: 1000 | D13: =C13/C$68*100 -> 0.17774618 | G13: TOTAL CAPITULO 4 | H13: =SUM(H11:H12) -> 400000 | I13: =SUM(I11:I12) -> 71.098471
A14: 4311.2130000 | B14: Mantenimiento, maq., instaL. utillaje | C14: 500 | D14: =C14/C$68*100 -> 0.08887309
A15: 4311.2160000 | B15: Mantenimiento equipos proc. información | C15: 1500 | D15: =C15/C$68*100 -> 0.26661927 | F15: CAPÍTULO 5 "INGRESOS PATRIMONIALES"
A16: 4311.2200000 | B16: Material de oficina | C16: 1000 | D16: =C16/C$68*100 -> 0.17774618 | F16: 52000 | G16: Intereses cuentas corrientes | H16: 100 | I16: =H16/H$19*100 -> 0.017774618
A17: 4311.2200100 | B17: Prensa revista libros | C17: 0 | D17: =C17/C$68*100 -> 0 | G17: TOTAL CAPITULO 5 | H17: =SUM(H16:H16) -> 100 | I17: =SUM(I16:I16) -> 0.017774618
A18: 4311.2200200 | B18: Material informático no inventariable | C18: 2000 | D18: =C18/C$68*100 -> 0.35549236
A19: 4311.2210000 | B19: Suministro energía eléctrica | C19: 40000 | D19: =C19/C$68*100 -> 7.1098472 | G19: TOTAL INGRESOS | H19: =H8+H13+H17 -> 562600 | I19: =I8+I13+I17 -> 100
A20: 4311.2210300 | B20: Combustibles y carburantes | C20: 0 | D20: =C20/C$68*100 -> 0
A21: 4311.2219900 | B21: Suministros de promoción | C21: 0 | D21: =C21/C$68*100 -> 0 | G21: SUPERÁVIT (INGRESOS - GASTOS) | H21: =H19-C68 -> 0.0042600001
A22: 4311.2219901 | B22: Otros suministros | C22: 4000 | D22: =C22/C$68*100 -> 0.71098472
A23: 4311.2220000 | B23: Servicio de telecomunicaciones | C23: 2000 | D23: =C23/C$68*100 -> 0.35549236
A24: 4311.2220100 | B24: Postales | C24: 200 | D24: =C24/C$68*100 -> 0.035549236
A25: 4311.2230000 | B25: Transportes | C25: 0 | D25: =C25/C$68*100 -> 0
A26: 4311.2240000 | B26: Primas de seguros | C26: 5000 | D26: =C26/C$68*100 -> 0.8887309
A27: 4311.2250200 | B27: Tributos entidades locales | C27: 16500 | D27: =C27/C$68*100 -> 2.932812
A28: 4311.2260100 | B28: Atenciones protocolarias y representación | C28: 0 | D28: =C28/C$68*100 -> 0
A29: 4311.2260200 | B29: Publicidad y propaganda | C29: 20000 | D29: =C29/C$68*100 -> 3.5549236
A30: 4311.2260400 | B30: Jurídicos y contenciosos | C30: 1000 | D30: =C30/C$68*100 -> 0.17774618
A31: 4311.2260600 | B31: Reuniones y conferencias | C31: 0 | D31: =C31/C$68*100 -> 0
A32: 4311.2260700 | B32: Oposiciones y pruebas selectivas | C32: 0 | D32: =C32/C$68*100 -> 0
A33: 4311.2269900 | B33: Alojamiento atención colaborar | C33: 0 | D33: =C33/C$68*100 -> 0
... A51: 4311.2330000 | B51: Indemnizaciones por razón del servicio | C51: 28544.13 | D51: =C51/C$68*100 -> 5.0736101
B52: TOTAL CAPÍTULO 2 | C52: =SUM(C10:C51) -> 322644.13 | D52: =C52/C$68*100 -> 57.348762
A54: CAPÍTULO 3 "GASTOS FINANCIEROS"
A55: 4311.3520000 | B55: Intereses de demora | C55: 100 | D55: =C55/C$68*100 -> 0.017774618
A56: 4311.3590000 | B56: Otros gastos financieros | C56: 500 | D56: =C56/C$68*100 -> 0.08887309
B57: TOTAL CAPÍTULO 3 | C57: =SUM(C55:C56) -> 600 | D57: =C57/C$68*100 -> 0.10664771
A59: CAPÍTULO 4 "TRANSFERENCIAS CORRIENTES"
...

Sheet COMPARATIVO EJERCICIO ANTERIOR
A1: PRESUPUESTO 2021/2020 INSTITUCIÓN FERIAL DE ALBACETE (IFAB)
A2: GASTOS | G2: INGRESOS
C3: CRÉDITOS INICIALES | E3: VARIACIÓN | I3: PREVISIONES INICIALES | K3: VARIACIÓN
C4: 2021 | D4: 2020 | I4: 2021 | J4: 2020
A5: CAPÍTULO 1 "GASTOS DE PERSONAL" | G5: CAPÍTULO 3 "TASAS Y OTROS INGRESOS"
A6: 4311.1300000 | B6: Personal laboral fijo | C6: =PROYECTO!C5 -> 170993.39 | D6: 119926.6 | E6: =(C6-D6)/D6 -> 0.42581704 | G6: 34900 | H6: Derechos asistencia expositores | I6: =PROYECTO!H5 -> 150000 | J6: 40852.555 | K6: =(I6-J6)/J6 -> 2.671741
A7: 4311.1600000 | B7: Seguridad social | C7: =PROYECTO!C6 -> 56362.482 | D7: 54715.28 | E7: =(C7-D7)/D7 -> 0.030104975 | G7: 34901 | H7: Derechos asistencia visitantes | I7: =PROYECTO!H6 -> 10000 | J7: 5363.6364 | K7: =(I7-J7)/J7 -> 0.86440678
B8: TOTAL CAPITULO 1 | C8: =SUM(C6:C7)-0.01 -> 227355.87 | D8: =SUM(D6:D7) -> 174641.88 | E8: =(C8-D8)/D8 -> 0.30184044 | G8: 39900 | H8: Otros ingresos diversos | I8: =PROYECTO!H7 -> 2500 | J8: 2500 | K8: =(I8-J8)/J8 -> 0
H9: TOTAL CAPITULO 3 | I9: =SUM(I6:I8) -> 162500 | J9: =SUM(J6:J8) -> 48716.191 | K9: =(I9-J9)/J9 -> 2.3356467
A10: CAPÍTULO 2 "GTOS. CTES. EN BIENES Y SERVICIOS"
A11: 4311.2030000 | B11: Arrendamientos maquinaria y utillaje | C11: =PROYECTO!C10 -> 100 | D11: 100 | E11: =(C11-D11)/D11 -> 0 | G11: CAPÍTULO 4 "TRANSFERENCIAS CORRIENTES"
A12: 4311.2050000 | B12: Arrendamiento de mobiliario y enseres | C12: =PROYECTO!C11 -> 500 | D12: 500 | E12: =(C12-D12)/D12 -> 0 | G12: 46100 | H12: Aportación Diputación | I12: =PROYECTO!H11 -> 175000 | J12: 175000 | K12: =(I12-J12)/J12 -> 0
A13: 4311.2090000 | B13: Cánones | C13: =PROYECTO!C12 -> 6000 | D13: 6000 | E13: =(C13-D13)/D13 -> 0 | G13: 46200 | H13: Aportación Ayuntamiento | I13: =PROYECTO!H12 -> 225000 | J13: 150000 | K13: =(I13-J13)/J13 -> 0.5
A14: 4311.2120000 | B14: Conservación edificios | C14: =PROYECTO!C13 -> 1000 | D14: 1000 | E14: =(C14-D14)/D14 -> 0 | H14: TOTAL CAPITULO 4 | I14: =SUM(I12:I13) -> 400000 | J14: =SUM(J12:J13) -> 325000 | K14: =(I14-J14)/J14 -> 0.23076923
A15: 4311.2130000 | B15: Mantenimiento, maq., instal. utillaje | C15: =PROYECTO!C14 -> 500 | D15: 500 | E15: =(C15-D15)/D15 -> 0
A16: 4311.2160000 | B16: Mantenimiento equipos proc. información | C16: =PROYECTO!C15 -> 1500 | D16: 1500 | E16: =(C16-D16)/D16 -> 0 | G16: CAPÍTULO 5 "INGRESOS PATRIMONIALES"
A17: 4311.2200000 | B17: Material de oficina | C17: =PROYECTO!C16 -> 1000 | D17: 500 | E17: =(C17-D17)/D17 -> 1 | G17: 52000 | H17: Intereses cuentas corrientes | I17: =PROYECTO!H16 -> 100 | J17: 100 | K17: =(I17-J17)/J17 -> 0
A18: 4311.2200100 | B18: Prensa revista libros | C18: =PROYECTO!C17 -> 0 | D18: 0 | E18: - | H18: TOTAL CAPITULO 5 | I18: =SUM(I17:I17) -> 100 | J18: =SUM(J17:J17) -> 100 | K18: =(I18-J18)/J18 -> 0
A19: 4311.2200200 | B19: Material informático no inventariable | C19: =PROYECTO!C18 -> 2000 | D19: 1000 | E19: =(C19-D19)/D19 -> 1
A20: 4311.2210000 | B20: Suministro energía eléctrica | C20: =PROYECTO!C19 -> 40000 | D20: 40000 | E20: =(C20-D20)/D20 -> 0 | H20: TOTAL PRESUPUESTO INGRESOS | I20: =I9+I14+I18 -> 562600 | J20: =J9+J14+J18 -> 373816.19 | K20: =(I20-J20)/J20 -> 0.50501774
A21: 4311.2210300 | B21: Combustibles y carburantes | C21: =PROYECTO!C20 -> 0 | D21: 0 | E21: -
A22: 4311.2219900 | B22: Suministros de promoción | C22: =PROYECTO!C21 -> 0 | D22: 0 | E22: - | H22: SUPERÁVIT (INGRESOS - GASTOS) | I22: =I20-C70 -> 0.0042600001 | J22: =J20-D70 -> 0.0028611742
A23: 4311.2219901 | B23: Otros suministros | C23: =PROYECTO!C22 -> 4000 | D23: 1500 | E23: =(C23-D23)/D23 -> 1.6666667
A24: 4311.2220000 | B24: Servicio de telecomunicaciones | C24: =PROYECTO!C23 -> 2000 | D24: 3000 | E24: =(C24-D24)/D24 -> -0.33333333
A25: 4311.2220100 | B25: Postales | C25: =PROYECTO!C24 -> 200 | D25: 200 | E25: =(C25-D25)/D25 -> 0
A26: 4311.2230000 | B26: Transportes | C26: =PROYECTO!C25 -> 0 | D26: 0 | E26: -
A27: 4311.2240000 | B27: Primas de seguros | C27: =PROYECTO!C26 -> 5000 | D27: 5000 | E27: =(C27-D27)/D27 -> 0
A28: 4311.2250200 | B28: Tributos entidades locales | C28: =PROYECTO!C27 -> 16500 | D28: 16500 | E28: =(C28-D28)/D28 -> 0
A29: 4311.2260100 | B29: Atenciones protocolarias y representación | C29: =PROYECTO!C28 -> 0 | D29: 0 | E29: -
A30: 4311.2260200 | B30: Publicidad y propaganda | C30: =PROYECTO!C29 -> 20000 | D30: 20000 | E30: =(C30-D30)/D30 -> 0
A31: 4311.2260400 | B31: Jurídicos y contenciosos | C31: =PROYECTO!C30 -> 1000 | D31: 1000 | E31: =(C31-D31)/D31 -> 0
A32: 4311.2260600 | B32: Reuniones y conferencias | C32: =PROYECTO!C31 -> 0 | D32: 0 | E32: -
A33: 4311.2260700 | B33: Oposiciones y pruebas selectivas | C33: 0 | D33: 0 | E33: -
A34: 4311.2269900 | B34: Alojamiento atención colaborar | C34: =PROYECTO!C33 -> 0 | D34: 0 | E34: -
A35: 4311.2270000 | B35: Limpieza y aseo | C35: =PROYECTO!C34 -> 12000 | D35: 5000 | E35: =(C35-D35)/D35 -> 1.4
A36: 4311.2270100 | B36: Seguridad | C36: =PROYECTO!C35 -> 40000 | D36: 5200 | E36: =(C36-D36)/D36 -> 6.6923077
A37: 4311.2270600 | B37: Estudios y trabajos técnicos | C37: =PROYECTO!C36 -> 2000 | D37: 0 | E37: -
A38: 4311.2279900 | B38: Montaje de stands | C38: =PROYECTO!C37 -> 60000 | D38: 14000 | E38: =(C38-D38)/D38 -> 3.2857143
A39: 4311.2279901 | B39: Decoración | C39: =PROYECTO!C38 -> 2000 | D39: 1000 | E39: =(C39-D39)/D39 -> 1
A40: 4311.2279902 | B40: Señalizaciones | C40: =PROYECTO!C39 -> 0 | D40: 0 | E40: -
...

Sheet AHORRO NETO
A1: INDICES DE AHORRO BRUTO Y NETO DE 2020 (en € )
A3: INGRESOS CORRIENTES (cap 1-5) | C3: =PROYECTO!H8+PROYECTO!H13+PROYECTO!H17 -> 562600
A5: (-) GASTOS CORRIENTES | C5: =SUM(B7:B11) -> 550000
A7: CAP 1 | B7: =PROYECTO!C7 -> 227355.87
A9: CAP 2 | B9: =PROYECTO!C52 -> 322644.13
A11: CAP 4 | B11: =PROYECTO!C60 -> 0
A14: AHORRO BRUTO | C14: =C3-C5 -> 12600.004
A16: (-) ANUALIDAD TEÓRICA AMORTIZACIÓN | C16: 0
A18: AHORRO NETO | C18: =C14-C16 -> 12600.004

Sheet INGRESOS DE FERIAS
A1: PREVISIONES 2021 | F1: PREVISIONES 2020 | K1: PREVISIONES Y EJECUCIÓN 2019 | S1: PREVISIONES Y EJECUCIÓN 2018 | Z1: EJECUCIÓN 2017
B2: DERECHOS ESTIMADOS ASISTENCIA EXPOSITORES | C2: DERECHOS ESTIMADOS ASISTENCIA VISITANTES | D2: TOTAL DERECHOS ESTIMADOS | G2: DERECHOS ESTIMADOS ASISTENCIA EXPOSITORES | H2: DERECHOS ESTIMADOS ASISTENCIA VISITANTES | I2: TOTAL DERECHOS ESTIMADOS | L2: DERECHOS ESTIMADOS ASISTENCIA EXPOSITORES | M2: Ejecución Derechos Expositores | N2: DERECHOS ESTIMADOS ASISTENCIA VISITANTES | O2: Ejecución Derechos Taquilla | P2: TOTAL DERECHOS ESTIMADOS | Q2: TOTAL DERECHOS EJECUTADOS | S2: Ingresos | T2: Previsiones Expositores | U2: Derechos Expositores | V2: Previsiones Taquilla | W2: Taquilla | X2: Total Ingresos | Z2: Ingresos | AA2: Expositores | AB2: Taquilla | AC2: Total Ingresos
A3: ANTIGUA | B3: 6000 | C3: 1000 | D3: =SUM(B3:C3) -> 7000 | F3: ANTIGUA | K3: ANTIGUA | L3: 15000 | M3: 17654.48 | N3: 3000 | O3: 3261 | P3: =L3+N3 -> 18000 | Q3: =M3+O3 -> 20915.48 | S3: ANTIGUA | T3: 16000 | U3: 0 | W3: 0 | X3: =U3+W3 -> 0 | Z3: ANTIGUA | AA3: 19477.43 | AB3: 3061.82 | AC3: =AA3+AB3 -> 22539.25
A4: COMERCIA | B4: 15000 | C4: 1000 | D4: =SUM(B4:C4) -> 16000 | F4: COMERCIA | G4: =44937.81/1.1 -> 40852.555 | H4: =5900/1.1 -> 5363.6364 | I4: =SUM(G4:H4) -> 46216.191 | K4: COMERCIA | L4: 40000 | M4: 42085.36 | N4: 8000 | O4: 8130 | P4: =L4+N4 -> 48000 | Q4: =M4+O4 -> 50215.36 | S4: COMERCIA | T4: 45000 | U4: 38286.43 | W4: 8770.91 | X4: =U4+W4 -> 47057.34 | Z4: COMERCIA | AA4: 46916.88 | AB4: 7279.09 | AC4: =AA4+AB4 -> 54195.97
A5: EXPOVICAMAN | B5: 61000 | C5: 3000 | D5: =SUM(B5:C5) -> 64000 | F5: EXPOVICAMAN | K5: EXPOVICAMAN | L5: 95000 | M5: 145882.19 | N5: 4500 | O5: 9386 | P5: =L5+N5 -> 99500 | Q5: =M5+O5 -> 155268.19 | S5: EXPOVICAMAN | T5: 50000 | U5: =6279.44+47066.29 -> 53345.73 | W5: 4696 | X5: =U5+W5 -> 58041.73 | Z5: EXPOVICAMAN | AA5: 92948.89 | AB5: 4433.64 | AC5: =AA5+AB5 -> 97382.53
A6: FERIMOTOR | B6: 0 | C6: 0 | D6: =SUM(B6:C6) -> 0 | F6: FERIMOTOR | K6: FERIMOTOR | L6: 35000 | M6: 42420.73 | N6: 4500 | O6: 7531 | P6: =L6+N6 -> 39500 | Q6: =M6+O6 -> 49951.73 | S6: FERIMOTOR | T6: 35000 | U6: 35037.44 | W6: 4472.73 | X6: =U6+W6 -> 39510.17 | Z6: FERIMOTOR | AA6: 34883.68 | AB6: 5442.73 | AC6: =AA6+AB6 -> 40326.41
A7: ARTESANA | B7: 25000 | C7: 0 | D7: =SUM(B7:C7) -> 25000 | F7: ARTESANA | K7: ARTESANA | L7: 55000 | M7: 57501.4 | N7: 0 | O7: 0 | P7: =L7+N7 -> 55000 | Q7: =M7+O7 -> 57501.4 | S7: ARTESANA | T7: 60000 | U7: 56365.12 | W7: 0 | X7: =U7+W7 -> 56365.12 | Z7: ARTESANA | AA7: 59000.01 | AC7: =AA7+AB7 -> 59000.01
A8: CELEBRALIA | B8: 10000 | C8: 1000 | D8: =SUM(B8:C8) -> 11000 | F8: CELEBRALIA | K8: CELEBRALIA | L8: 40000 | M8: 44293.91 | N8: 1000 | O8: 1113 | P8: =L8+N8 -> 41000 | Q8: =M8+O8 -> 45406.91 | S8: CELEBRALIA | T8: 42000 | U8: 43178.33 | W8: 1150 | X8: =U8+W8 -> 44328.33 | Z8: CELEBRALIA | AA8: 41808.81 | AB8: 1335.45 | AC8: =AA8+AB8 -> 43144.26
A9: ALBANIME | B9: 7000 | C9: 1000 | D9: =SUM(B9:C9) -> 8000 | F9: ALBANIME | K9: ALBANIME | L9: 15000 | M9: 14860.35 | N9: 5500 | O9: 7130 | P9: =L9+N9 -> 20500 | Q9: =M9+O9 -> 21990.35 | S9: ALBANIME | T9: 12000 | U9: 15617.78 | W9: 5677.27 | X9: =U9+W9 -> 21295.05 | Z9: ALBANIME | AA9: 11181.7 | AB9: 5688.18 | AC9: =AA9+AB9 -> 16869.88
A10: 4PLAYERS | B10: 6000 | C10: 1000 | D10: =SUM(B10:C10) -> 7000 | F10: 4PLAYERS | K10: 4PLAYERS | L10: 9000 | M10: 12010.42 | N10: 4500 | O10: 6045 | P10: =L10+N10 -> 13500 | Q10: =M10+O10 -> 18055.42 | S10: 4PLAYERS | T10: 11000 | U10: 8636.33 | W10: 4463.44 | X10: =U10+W10 -> 13099.77 | Z10: 4PLAYERS | AA10: 10454.52 | AB10: 4481.82 | AC10: =AA10+AB10 -> 14936.34
A11: ALBATOY | B11: 2000 | C11: 1000 | D11: =SUM(B11:C11) -> 3000 | F11: ALBATOY
A12: DEPORTE | B12: 18000 | C12: 1000 | D12: =SUM(B12:C12) -> 19000 | F12: ABFUSHION
A13: TOTAL | B13: =SUM(B3:B12) -> 150000 | C13: =SUM(C3:C12) -> 10000 | D13: =SUM(D3:D12) -> 160000 | F13: TOTAL | G13: =SUM(G3:G12) -> 40852.555 | H13: =SUM(H3:H12) -> 5363.6364 | I13: =SUM(I3:I12) -> 46216.191 | K13: TOTAL | L13: =SUM(L3:L10) -> 304000 | M13: =SUM(M3:M11) -> 376708.84 | N13: =SUM(N3:N10) -> 31000 | O13: =SUM(O3:O11) -> 42596 | P13: =SUM(P3:P10) -> 335000 | Q13: =SUM(Q3:Q10) -> 419304.84 | S13: TOTAL INGRESOS | T13: =SUM(T3:T11) -> 271000 | U13: =SUM(U3:U11) -> 250467.16 | V13: 33000 | W13: =SUM(W3:W10) -> 29230.35 | X13: =SUM(X3:X10) -> 279697.51 | Z13: TOTAL INGRESOS | AA13: =SUM(AA3:AA11) -> 316671.92 | AB13: =SUM(AB3:AB10) -> 31722.73 | AC13: =SUM(AC3:AC10) -> 348394.65

Sheet RELACIONES DE PERSONAL
A1: RELACIÓN LABORAL | B1: TRABAJADOR | C1: DEVENGO MENSUAL SIN SUBIDA 0,9% | D1: DEVENGO MENSUAL CON SUBIDA DEL 0,9% | E1: DEVENGO ANUAL | F1: CUOTA EMPRESA S.S. MENSUAL SIN SUBIDA 0,9% | G1: CUOTA EMPRESA S.S. MENSUAL CON SUBIDA 0,9% | H1: CUOTA EMPRESARIAL S.S. ANUAL
A2: Laboral Fijo | B2: ANA MARTÍNEZ VALIENTE | C2: 3734.14 | D2: =C2*1.009 -> 3767.7473 | E2: =D2*14 -> 52748.462 | F2: 1300.4 | G2: =F2*1.009 -> 1312.1036 | H2: =G2*12 -> 15745.243
B3: PILAR GONZÁLEZ GONZÁLEZ | C3: 1843.7 | D3: =C3*1.009 -> 1860.2933 | E3: =D3*14 -> 26044.106 | F3: 675.41 | G3: =F3*1.009 -> 681.48869 | H3: =G3*12 -> 8177.8643
B4: ANA LÓPEZ ROLDÁN | C4: 1702.1 | D4: =C4*1.009 -> 1717.4189 | E4: =D4*14 -> 24043.865 | F4: 634.46 | G4: =F4*1.009 -> 640.17014 | H4: =G4*12 -> 7682.0417
B5: JOSÉ ANTONIO GUERRA SÁNCHEZ | C5: 1596.93 | D5: =C5*1.009 -> 1611.3024 | E5: =D5*14 -> 22558.233 | F5: 681.88 | G5: =F5*1.009 -> 688.01692 | H5: =G5*12 -> 8256.203
B6: ROSA ANA MARTÍNEZ MARTÍNEZ | C6: 1614 | D6: =C6*1.009 -> 1628.526 | E6: =D6*14 -> 22799.364 | F6: 601.62 | G6: =F6*1.009 -> 607.03458 | H6: =G6*12 -> 7284.415
B7: MARÍA BELEN GONZÁLEZ GARCÍA DE LA BARGA | C7: 1614 | D7: =C7*1.009 -> 1628.526 | E7: =D7*14 -> 22799.364 | F7: 601.62 | G7: =F7*1.009 -> 607.03458 | H7: =G7*12 -> 7284.415
B9: TOTAL LABORAL FIJO | C9: =SUM(C2:C8) -> 12104.87 | D9: =SUM(D2:D8) -> 12213.814 | E9: =SUM(E2:E8) -> 170993.39 | F9: =SUM(F2:F8) -> 4495.39 | G9: =SUM(G2:G8) -> 4535.8485 | H9: =SUM(H2:H8) -> 54430.182

Sheet PLANTILLA DE PERSONAL
A1: PLANTILLA DE PERSONAL DEL CONSORCIO INSTITUCIÓN FERIAL DE ALBACETE (IFAB) 2020
A2: DENOMINACIÓN PUESTOS | B2: Nº PLAZAS | C2: RETRIBUCIONES
A3: GERENCIA | B3: 1 | C3: ='RELACIONES DE PERSONAL'!E2 -> 52748.462
A4: PERSONAL ADMINISTRATIVO | B4: 4 | C4: ='RELACIONES DE PERSONAL'!E3+'RELACIONES DE PERSONAL'!E4+'RELACIONES DE PERSONAL'!E6+'RELACIONES DE PERSONAL'!E7 -> 95686.699
A5: OPERARIO DE SERVICIOS MULTIPLES | B5: 1 | C5: ='RELACIONES DE PERSONAL'!E5 -> 22558.233
A6: TOTAL | B6: 6 | C6: =SUM(C3:C5) -> 170993.39

Sheet PLANTILLA BOP
A1: PLANTILLA DE PERSONAL DEL CONSORCIO INSTITUCIÓN FERIAL DE ALBACETE (IFAB) 2020
A2: DENOMINACIÓN PUESTOS | B2: Nº PLAZAS
A3: GERENCIA | B3: 1
A4: PERSONAL ADMINISTRATIVO | B4: 4
A5: OPERARIO DE SERVICIOS MULTIPLES | B5: 1
A6: TOTAL | B6: 6
